BEGIN:VCALENDAR
VERSION:2.0
PRODID:-//Saarjazz - ECPv6.2.8.1//NONSGML v1.0//EN
CALSCALE:GREGORIAN
METHOD:PUBLISH
X-ORIGINAL-URL:https://jazz.ehrlich-werben.de
X-WR-CALDESC:Veranstaltungen für Saarjazz
REFRESH-INTERVAL;VALUE=DURATION:PT1H
X-Robots-Tag:noindex
X-PUBLISHED-TTL:PT1H
BEGIN:VTIMEZONE
TZID:Europe/Berlin
BEGIN:DAYLIGHT
TZOFFSETFROM:+0100
TZOFFSETTO:+0200
TZNAME:CEST
DTSTART:20230326T010000
END:DAYLIGHT
BEGIN:STANDARD
TZOFFSETFROM:+0200
TZOFFSETTO:+0100
TZNAME:CET
DTSTART:20231029T010000
END:STANDARD
END:VTIMEZONE
BEGIN:VEVENT
DTSTART;TZID=Europe/Berlin:20231212T200000
DTEND;TZID=Europe/Berlin:20231212T230000
DTSTAMP:20260420T105831
CREATED:20231116T125041Z
LAST-MODIFIED:20231116T125041Z
UID:10000400-1702411200-1702422000@jazz.ehrlich-werben.de
SUMMARY:Shuteen Erdenebaatar Quartet – Reihe »Jazz im Schloss«
DESCRIPTION:Ihr Quartett ist ihre Kern-Arbeitsband\, in der sie diesem sehr klassischen Jazz-Quartett-Format auf ihre ganz eigene Art und Weise eine moderne Färbung verleiht. Das wird erlebbar in der energetischen Freiheit und dynamischen Geschlossenheit\, die mit impulsiver Improvisation und expressiver Interaktion über klaren Strukturen harmonieren. \nDas Quartett gewann den 1. Preis und den Publikumspreis des legendären Jungen Münchner Jazzpreis 2022. Ihr Debütalbum wird 2023 erscheinen. \n»…die Band als Ganzes bildete einen reibungslosen Organismus des Zusammenspiels\, der mit gleicher Energie und Differenzierung harmonierte…« Ralf Dombrowski\, Süddeutsche Zeitung \n​Shuteen Erdenebaatar – Klavier\, Kompositionen\nNils Kugelmann – Bass\nAnton Mangold – Saxophone\, Flöten\nValentin Renner – Schlagzeug
URL:https://jazz.ehrlich-werben.de/veranstaltung/shuteen-erdenebaatar-quartet-reihe-jazz-im-schloss/
LOCATION:Festsaal Schloss Saarbrücken\, Schlossplatz 1-15\, Saarbrücken\, Saarland\, 66119\, Deutschland
CATEGORIES:Konzert
ATTACH;FMTTYPE=image/webp:https://jazz.ehrlich-werben.de/wp-content/uploads/2023/11/d4a367_8ac7ae0f96e64cfba8e7bfdedb5f0754mv2.webp
END:VEVENT
END:VCALENDAR