BEGIN:VCALENDAR
VERSION:2.0
PRODID:-//Saarjazz - ECPv6.2.8.1//NONSGML v1.0//EN
CALSCALE:GREGORIAN
METHOD:PUBLISH
X-WR-CALNAME:Saarjazz
X-ORIGINAL-URL:https://jazz.ehrlich-werben.de
X-WR-CALDESC:Veranstaltungen für Saarjazz
REFRESH-INTERVAL;VALUE=DURATION:PT1H
X-Robots-Tag:noindex
X-PUBLISHED-TTL:PT1H
BEGIN:VTIMEZONE
TZID:Europe/Berlin
BEGIN:DAYLIGHT
TZOFFSETFROM:+0100
TZOFFSETTO:+0200
TZNAME:CEST
DTSTART:20240331T010000
END:DAYLIGHT
BEGIN:STANDARD
TZOFFSETFROM:+0200
TZOFFSETTO:+0100
TZNAME:CET
DTSTART:20241027T010000
END:STANDARD
END:VTIMEZONE
BEGIN:VEVENT
DTSTART;TZID=Europe/Berlin:20240119T200000
DTEND;TZID=Europe/Berlin:20240119T200000
DTSTAMP:20260420T122725
CREATED:20231218T134638Z
LAST-MODIFIED:20231218T134638Z
UID:10000561-1705694400-1705694400@jazz.ehrlich-werben.de
SUMMARY:The Consistency of Destruction
DESCRIPTION:Freitag\, 19. Januar 2024\, 20:00 Uhr \nThe Consistency of Destruction  \nPascal Klewer (Trompete); Felix Hauptmann (Piano/Synth); Florian Herzog (Bass/Synth) \nDie Band “The Consistency of Destruction” arbeitet und forscht an Strukturen\, Polyrhythmik\, Dichte und Klang. Die Musik des Kölner Ensembles befindet sich an den Grenzen der Avantgarde\, der improvisierten und Neuen Musik. Die intensiv erarbeiteten Stücke\, Vorlagen\, Vorgaben und Konzepte werden stets weiter erforscht und schließlich zerstört\, hinterfragt und neu verkoppelt. Als Quintett veröffentlichte die Band bereits 4 Alben (ennui\, beats.\, theconsistencyofdestruction\, nowigetwhypeoplekillthemselves) auf dem Label stsIsts records. An diesem Abend präsentieren Hauptmann\, Klewer und Herzog ein neues Trio Programm\, welches u.a. verwebende Klangstrukturen\, elektronische Ambient Flächen und alternative Tuningkonzepte/Multiphonics verspricht. \nPascal Klewer (geb. 1997) ist seit einigen Jahren fest in der Kölner Szene verankert\, sei es durch selbst-kuratierte Festivals (222 Festival)\, interaktive Kunstausstellungen\, Konzertreihen (Pascal Klewer Bigband meets\, u.a. mit Brötzmann\, Parker\, Dell\, Lillinger)\, Monday Meetings (Co-Kurator gemeinsam mit seinen Bandkollegen Herzog/Hauptmann)\, seine eigenen Ensembles (Pascal Klewer Bigband\, theconsistencyofdestruction) und seinem eigenen Label stsIsts records. Er ist Stipendiat der Stiftung Bartels (2022) und der Kunststiftung NRW (2023)\, arbeitete als Gastdirigent für die WDR Bigband\, komponiert Filmmusiken für die ARD und ist Preisträger des Kompositionspreises des Bundesjazzorchesters\, des Landes Hessens und dem Neuen Deutschen Jazzpreis für Komposition. \nEintritt 12/10 €
URL:https://jazz.ehrlich-werben.de/veranstaltung/the-consistency-of-destruction/
LOCATION:Kulturtreff „Altes Rathaus“\, Vorstadtstr. 77\, Saarwellingen\, Saarland\, 66793\, Deutschland
CATEGORIES:Konzert
ATTACH;FMTTYPE=image/jpeg:https://jazz.ehrlich-werben.de/wp-content/uploads/2023/12/19_1_Pascal-Klewer-A©-Florian-Fries-168.jpg
ORGANIZER;CN="Kulturf%C3%B6rderverein %E2%80%9EKulturtreff Altes Rathaus%E2%80%9C":MAILTO:info@gudrun.rohe.de
END:VEVENT
END:VCALENDAR